BEGIN:VCALENDAR
VERSION:2.0
PRODID:-//Maritime Cook Islands - ECPv6.15.20//NONSGML v1.0//EN
CALSCALE:GREGORIAN
METHOD:PUBLISH
X-WR-CALNAME:Maritime Cook Islands
X-ORIGINAL-URL:https://maritimecookislands.com
X-WR-CALDESC:Events for Maritime Cook Islands
REFRESH-INTERVAL;VALUE=DURATION:PT1H
X-Robots-Tag:noindex
X-PUBLISHED-TTL:PT1H
BEGIN:VTIMEZONE
TZID:Pacific/Rarotonga
BEGIN:STANDARD
TZOFFSETFROM:-1000
TZOFFSETTO:-1000
TZNAME:-10
DTSTART:20250101T000000
END:STANDARD
END:VTIMEZONE
BEGIN:VEVENT
DTSTART;TZID=Pacific/Rarotonga:20260422T080000
DTEND;TZID=Pacific/Rarotonga:20260424T170000
DTSTAMP:20260421T015543
CREATED:20260323T191512Z
LAST-MODIFIED:20260323T191512Z
UID:6024-1776844800-1777050000@maritimecookislands.com
SUMMARY:Sea Japan
DESCRIPTION:Sea Japan\, an international exhibition for the maritime industry\, including shipbuilding\, shipping\, and marine equipment\, has been held every two years since 1994 and has been widely used by industry professionals from Japan and abroad as a venue for announcing new products\, conducting business negotiations with customers\, finding new partners\, and building industry networks.\nThe last time the exhibition was held in 2024\, it celebrated its 30th anniversary and was the largest ever.
URL:https://maritimecookislands.com/event/sea-japan/
CATEGORIES:Event,Exhibition
ATTACH;FMTTYPE=image/jpeg:https://maritimecookislands.com/wp-content/uploads/sea-japan-e1774293306796.jpg
END:VEVENT
END:VCALENDAR